Package: HMP16SData Version: 1.31.0 Command: /home/biocbuild/bbs-3.23-bioc/R/bin/R CMD INSTALL HMP16SData StartedAt: 2025-11-13 10:58:20 -0500 (Thu, 13 Nov 2025) EndedAt: 2025-11-13 10:58:50 -0500 (Thu, 13 Nov 2025) EllapsedTime: 30.3 seconds RetCode: 0 Status: OK