Package: HMP16SData Version: 1.31.0 Command: /home/biocbuild/bbs-3.23-bioc/R/bin/R CMD build --keep-empty-dirs --no-resave-data HMP16SData StartedAt: 2025-11-13 11:24:34 -0500 (Thu, 13 Nov 2025) EndedAt: 2025-11-13 11:26:59 -0500 (Thu, 13 Nov 2025) EllapsedTime: 145.5 seconds RetCode: 0 Status: OK PackageFile: HMP16SData_1.31.0.tar.gz PackageFileSize: 16.36 MiB