Package: HCAData Version: 1.27.0 Command: /home/biocbuild/bbs-3.23-bioc/R/bin/R CMD INSTALL HCAData StartedAt: 2025-11-25 11:02:40 -0500 (Tue, 25 Nov 2025) EndedAt: 2025-11-25 11:03:10 -0500 (Tue, 25 Nov 2025) EllapsedTime: 29.8 seconds RetCode: 0 Status: OK