Package: HCAData Version: 1.27.0 Command: /home/biocbuild/bbs-3.23-bioc/R/bin/R CMD build --keep-empty-dirs --no-resave-data HCAData StartedAt: 2025-11-25 11:21:47 -0500 (Tue, 25 Nov 2025) EndedAt: 2025-11-25 11:24:37 -0500 (Tue, 25 Nov 2025) EllapsedTime: 169.8 seconds RetCode: 0 Status: OK PackageFile: HCAData_1.27.0.tar.gz PackageFileSize: 1.476 MiB