Package: GeuvadisTranscriptExpr Version: 1.37.1 Command: /home/biocbuild/bbs-3.22-bioc/R/bin/R CMD build --keep-empty-dirs --no-resave-data GeuvadisTranscriptExpr StartedAt: 2025-07-17 11:19:16 -0400 (Thu, 17 Jul 2025) EndedAt: 2025-07-17 11:19:49 -0400 (Thu, 17 Jul 2025) EllapsedTime: 32.9 seconds RetCode: 0 Status: OK PackageFile: GeuvadisTranscriptExpr_1.37.1.tar.gz PackageFileSize: 7.202 MiB