Package: GWASdata Version: 1.49.0 Command: /home/biocbuild/bbs-3.23-bioc/R/bin/R CMD build --keep-empty-dirs --no-resave-data GWASdata StartedAt: 2025-11-20 11:21:37 -0500 (Thu, 20 Nov 2025) EndedAt: 2025-11-20 11:21:42 -0500 (Thu, 20 Nov 2025) EllapsedTime: 5.3 seconds RetCode: 0 Status: OK PackageFile: GWASdata_1.49.0.tar.gz PackageFileSize: 8.249 MiB