Package: FlowSorted.DLPFC.450k Version: 1.45.0 Command: /home/biocbuild/bbs-3.22-bioc/R/bin/R CMD INSTALL FlowSorted.DLPFC.450k StartedAt: 2025-07-17 11:01:24 -0400 (Thu, 17 Jul 2025) EndedAt: 2025-07-17 11:02:29 -0400 (Thu, 17 Jul 2025) EllapsedTime: 64.8 seconds RetCode: 0 Status: OK