Package: FlowSorted.Blood.EPIC Version: 2.13.0 Command: /home/biocbuild/bbs-3.22-bioc/R/bin/R CMD INSTALL FlowSorted.Blood.EPIC StartedAt: 2025-07-17 11:01:31 -0400 (Thu, 17 Jul 2025) EndedAt: 2025-07-17 11:02:14 -0400 (Thu, 17 Jul 2025) EllapsedTime: 43.7 seconds RetCode: 0 Status: OK