Package: FlowSorted.Blood.EPIC Version: 2.15.0 Command: /home/biocbuild/bbs-3.23-bioc/R/bin/R CMD check --install=check:FlowSorted.Blood.EPIC.install-out.txt --library=/home/biocbuild/bbs-3.23-bioc/R/site-library --timings FlowSorted.Blood.EPIC_2.15.0.tar.gz StartedAt: 2025-11-11 12:20:26 -0500 (Tue, 11 Nov 2025) EndedAt: 2025-11-11 12:38:15 -0500 (Tue, 11 Nov 2025) EllapsedTime: 1068.5 seconds RetCode: 0 Status: OK CheckDir: FlowSorted.Blood.EPIC.Rcheck Warnings: 0