Package: FlowSorted.Blood.EPIC Version: 2.15.0 Command: /home/biocbuild/bbs-3.23-bioc/R/bin/R CMD build --keep-empty-dirs --no-resave-data FlowSorted.Blood.EPIC StartedAt: 2025-11-06 11:18:09 -0500 (Thu, 06 Nov 2025) EndedAt: 2025-11-06 11:23:40 -0500 (Thu, 06 Nov 2025) EllapsedTime: 331.5 seconds RetCode: 0 Status: OK PackageFile: FlowSorted.Blood.EPIC_2.15.0.tar.gz PackageFileSize: 96.2 KiB