Package: FlowSorted.Blood.450k Version: 1.47.0 Command: /home/biocbuild/bbs-3.22-bioc/R/bin/R CMD INSTALL FlowSorted.Blood.450k StartedAt: 2025-07-17 11:01:28 -0400 (Thu, 17 Jul 2025) EndedAt: 2025-07-17 11:02:41 -0400 (Thu, 17 Jul 2025) EllapsedTime: 72.2 seconds RetCode: 0 Status: OK