Package: FieldEffectCrc Version: 1.19.0 Command: /home/biocbuild/bbs-3.22-bioc/R/bin/R CMD build --keep-empty-dirs --no-resave-data FieldEffectCrc StartedAt: 2025-07-17 11:17:04 -0400 (Thu, 17 Jul 2025) EndedAt: 2025-07-17 11:20:13 -0400 (Thu, 17 Jul 2025) EllapsedTime: 189.1 seconds RetCode: 0 Status: OK PackageFile: FieldEffectCrc_1.19.0.tar.gz PackageFileSize: 239.5 KiB