Package: EpipwR.data Version: 1.3.0 Command: /home/biocbuild/bbs-3.22-bioc/R/bin/R CMD INSTALL EpipwR.data StartedAt: 2025-10-21 10:57:21 -0400 (Tue, 21 Oct 2025) EndedAt: 2025-10-21 10:57:22 -0400 (Tue, 21 Oct 2025) EllapsedTime: 1.0 seconds RetCode: 0 Status: OK