Package: EpipwR.data Version: 1.3.0 Command: /home/biocbuild/bbs-3.22-bioc/R/bin/R CMD build --keep-empty-dirs --no-resave-data EpipwR.data StartedAt: 2025-10-21 11:16:19 -0400 (Tue, 21 Oct 2025) EndedAt: 2025-10-21 11:16:23 -0400 (Tue, 21 Oct 2025) EllapsedTime: 4.0 seconds RetCode: 0 Status: OK PackageFile: EpipwR.data_1.3.0.tar.gz PackageFileSize: 8.321 KiB