Package: EGSEAdata Version: 1.37.0 Command: /home/biocbuild/bbs-3.22-bioc/R/bin/R CMD build --keep-empty-dirs --no-resave-data EGSEAdata StartedAt: 2025-09-30 11:15:48 -0400 (Tue, 30 Sep 2025) EndedAt: 2025-09-30 11:15:54 -0400 (Tue, 30 Sep 2025) EllapsedTime: 5.7 seconds RetCode: 0 Status: OK PackageFile: EGSEAdata_1.37.0.tar.gz PackageFileSize: 66.58 MiB