Package: DoReMiTra Version: 1.1.0 Command: /home/biocbuild/bbs-3.23-bioc/R/bin/R CMD build --keep-empty-dirs --no-resave-data DoReMiTra StartedAt: 2025-11-06 11:15:32 -0500 (Thu, 06 Nov 2025) EndedAt: 2025-11-06 11:17:18 -0500 (Thu, 06 Nov 2025) EllapsedTime: 106.4 seconds RetCode: 0 Status: OK PackageFile: DoReMiTra_1.1.0.tar.gz PackageFileSize: 1.105 MiB