Package: CytoMethIC Version: 1.5.0 Command: /home/biocbuild/bbs-3.22-bioc/R/bin/R CMD build --keep-empty-dirs --no-resave-data CytoMethIC StartedAt: 2025-07-22 11:13:53 -0400 (Tue, 22 Jul 2025) EndedAt: 2025-07-22 11:15:33 -0400 (Tue, 22 Jul 2025) EllapsedTime: 100.2 seconds RetCode: 0 Status: OK PackageFile: CytoMethIC_1.5.0.tar.gz PackageFileSize: 6.47 MiB