Package: CytoMethIC Version: 1.7.0 Command: /home/biocbuild/bbs-3.23-bioc/R/bin/R CMD build --keep-empty-dirs --no-resave-data CytoMethIC StartedAt: 2025-11-06 11:13:34 -0500 (Thu, 06 Nov 2025) EndedAt: 2025-11-06 11:15:10 -0500 (Thu, 06 Nov 2025) EllapsedTime: 95.6 seconds RetCode: 0 Status: OK PackageFile: CytoMethIC_1.7.0.tar.gz PackageFileSize: 6.489 MiB