Package: CopyhelpeR Version: 1.43.0 Maintainer: Oscar Krijgsman MaintainerEmail: o.krijgsman at nki.nl git_url: https://git.bioconductor.org/packages/CopyhelpeR git_branch: devel git_last_commit: c73ec6a git_last_commit_date: 2025-10-29 09:56:24 -0500 (Wed, 29 Oct 2025)