Package: ChimpHumanBrainData Version: 1.47.0 Command: /home/biocbuild/bbs-3.22-bioc/R/bin/R CMD INSTALL ChimpHumanBrainData StartedAt: 2025-07-22 10:56:20 -0400 (Tue, 22 Jul 2025) EndedAt: 2025-07-22 10:56:25 -0400 (Tue, 22 Jul 2025) EllapsedTime: 5.0 seconds RetCode: 0 Status: OK