Package: ChIPexoQualExample Version: 1.35.0 Command: /home/biocbuild/bbs-3.23-bioc/R/bin/R CMD build --keep-empty-dirs --no-resave-data ChIPexoQualExample StartedAt: 2025-11-06 11:09:51 -0500 (Thu, 06 Nov 2025) EndedAt: 2025-11-06 11:10:05 -0500 (Thu, 06 Nov 2025) EllapsedTime: 14.3 seconds RetCode: 0 Status: OK PackageFile: ChIPexoQualExample_1.35.0.tar.gz PackageFileSize: 152.3 MiB