Package: ChIPXpressData Version: 1.47.0 Command: /home/biocbuild/bbs-3.22-bioc/R/bin/R CMD INSTALL ChIPXpressData StartedAt: 2025-07-17 10:55:59 -0400 (Thu, 17 Jul 2025) EndedAt: 2025-07-17 10:56:05 -0400 (Thu, 17 Jul 2025) EllapsedTime: 6.1 seconds RetCode: 0 Status: OK