Package: CellMapperData Version: 1.35.0 Command: /home/biocbuild/bbs-3.22-bioc/R/bin/R CMD INSTALL CellMapperData StartedAt: 2025-07-17 10:57:18 -0400 (Thu, 17 Jul 2025) EndedAt: 2025-07-17 10:57:27 -0400 (Thu, 17 Jul 2025) EllapsedTime: 9.8 seconds RetCode: 0 Status: OK