Package: CellMapperData Version: 1.35.0 Command: /home/biocbuild/bbs-3.22-bioc/R/bin/R CMD build --keep-empty-dirs --no-resave-data CellMapperData StartedAt: 2025-07-17 11:08:56 -0400 (Thu, 17 Jul 2025) EndedAt: 2025-07-17 11:09:20 -0400 (Thu, 17 Jul 2025) EllapsedTime: 24.0 seconds RetCode: 0 Status: OK PackageFile: CellMapperData_1.35.0.tar.gz PackageFileSize: 146.9 KiB