Package: CardinalWorkflows Version: 1.41.0 Command: /home/biocbuild/bbs-3.22-bioc/R/bin/R CMD INSTALL CardinalWorkflows StartedAt: 2025-07-17 10:57:49 -0400 (Thu, 17 Jul 2025) EndedAt: 2025-07-17 10:58:02 -0400 (Thu, 17 Jul 2025) EllapsedTime: 13.3 seconds RetCode: 0 Status: OK