Package: CardinalWorkflows Version: 1.41.0 Command: /home/biocbuild/bbs-3.22-bioc/R/bin/R CMD build --keep-empty-dirs --no-resave-data CardinalWorkflows StartedAt: 2025-07-17 11:08:24 -0400 (Thu, 17 Jul 2025) EndedAt: 2025-07-17 11:57:25 -0400 (Thu, 17 Jul 2025) EllapsedTime: 2940.6 seconds RetCode: 0 Status: OK PackageFile: CardinalWorkflows_1.41.0.tar.gz PackageFileSize: 53.52 MiB