Package: COHCAPanno Version: 1.47.0 Command: /home/biocbuild/bbs-3.23-bioc/R/bin/R CMD build --keep-empty-dirs --no-resave-data COHCAPanno StartedAt: 2025-11-20 11:11:16 -0500 (Thu, 20 Nov 2025) EndedAt: 2025-11-20 11:11:22 -0500 (Thu, 20 Nov 2025) EllapsedTime: 6.6 seconds RetCode: 0 Status: OK PackageFile: COHCAPanno_1.47.0.tar.gz PackageFileSize: 9.328 MiB