Package: CLLmethylation Version: 1.29.0 Command: /home/biocbuild/bbs-3.22-bioc/R/bin/R CMD build --keep-empty-dirs --no-resave-data CLLmethylation StartedAt: 2025-07-22 11:10:42 -0400 (Tue, 22 Jul 2025) EndedAt: 2025-07-22 11:11:47 -0400 (Tue, 22 Jul 2025) EllapsedTime: 65.7 seconds RetCode: 0 Status: OK PackageFile: CLLmethylation_1.29.0.tar.gz PackageFileSize: 361.9 KiB