Package: CCl4 Version: 1.47.0 Command: /home/biocbuild/bbs-3.22-bioc/R/bin/R CMD INSTALL CCl4 StartedAt: 2025-07-24 10:56:16 -0400 (Thu, 24 Jul 2025) EndedAt: 2025-07-24 10:56:20 -0400 (Thu, 24 Jul 2025) EllapsedTime: 4.5 seconds RetCode: 0 Status: OK