Package: CCl4 Version: 1.47.0 Command: /home/biocbuild/bbs-3.22-bioc/R/bin/R CMD build --keep-empty-dirs --no-resave-data CCl4 StartedAt: 2025-07-24 11:09:16 -0400 (Thu, 24 Jul 2025) EndedAt: 2025-07-24 11:10:18 -0400 (Thu, 24 Jul 2025) EllapsedTime: 61.5 seconds RetCode: 0 Status: OK PackageFile: CCl4_1.47.0.tar.gz PackageFileSize: 110.3 MiB