Package: BloodCancerMultiOmics2017 Version: 1.29.0 Command: /home/biocbuild/bbs-3.22-bioc/R/bin/R CMD INSTALL BloodCancerMultiOmics2017 StartedAt: 2025-07-22 10:59:39 -0400 (Tue, 22 Jul 2025) EndedAt: 2025-07-22 11:00:33 -0400 (Tue, 22 Jul 2025) EllapsedTime: 54.6 seconds RetCode: 0 Status: OK