Package: BloodCancerMultiOmics2017 Version: 1.29.0 Command: /home/biocbuild/bbs-3.22-bioc/R/bin/R CMD build --keep-empty-dirs --no-resave-data BloodCancerMultiOmics2017 StartedAt: 2025-07-22 11:08:26 -0400 (Tue, 22 Jul 2025) EndedAt: 2025-07-22 11:38:42 -0400 (Tue, 22 Jul 2025) EllapsedTime: 1816.4 seconds RetCode: 0 Status: OK PackageFile: BloodCancerMultiOmics2017_1.29.0.tar.gz PackageFileSize: 53.7 MiB