Package: BioPlex Version: 1.15.0 Command: /home/biocbuild/bbs-3.22-bioc/R/bin/R CMD INSTALL BioPlex StartedAt: 2025-07-24 10:58:35 -0400 (Thu, 24 Jul 2025) EndedAt: 2025-07-24 10:58:58 -0400 (Thu, 24 Jul 2025) EllapsedTime: 22.4 seconds RetCode: 0 Status: OK