Package: BioPlex Version: 1.15.0 Command: /home/biocbuild/bbs-3.22-bioc/R/bin/R CMD build --keep-empty-dirs --no-resave-data BioPlex StartedAt: 2025-07-24 11:08:24 -0400 (Thu, 24 Jul 2025) EndedAt: 2025-07-24 11:11:22 -0400 (Thu, 24 Jul 2025) EllapsedTime: 177.5 seconds RetCode: 0 Status: OK PackageFile: BioPlex_1.15.0.tar.gz PackageFileSize: 928.2 KiB