Package: BeadSorted.Saliva.EPIC Version: 1.19.0 Command: /home/biocbuild/bbs-3.23-bioc/R/bin/R CMD INSTALL BeadSorted.Saliva.EPIC StartedAt: 2025-11-13 11:03:21 -0500 (Thu, 13 Nov 2025) EndedAt: 2025-11-13 11:04:03 -0500 (Thu, 13 Nov 2025) EllapsedTime: 42.3 seconds RetCode: 0 Status: OK