Package: BeadArrayUseCases Version: 1.47.0 Command: /home/biocbuild/bbs-3.22-bioc/R/bin/R CMD INSTALL BeadArrayUseCases StartedAt: 2025-07-17 10:59:21 -0400 (Thu, 17 Jul 2025) EndedAt: 2025-07-17 10:59:40 -0400 (Thu, 17 Jul 2025) EllapsedTime: 19.5 seconds RetCode: 0 Status: OK