Package: BeadArrayUseCases Version: 1.49.0 Command: /home/biocbuild/bbs-3.23-bioc/R/bin/R CMD check --install=check:BeadArrayUseCases.install-out.txt --library=/home/biocbuild/bbs-3.23-bioc/R/site-library --timings BeadArrayUseCases_1.49.0.tar.gz StartedAt: 2025-11-20 12:10:47 -0500 (Thu, 20 Nov 2025) EndedAt: 2025-11-20 12:21:41 -0500 (Thu, 20 Nov 2025) EllapsedTime: 654.0 seconds RetCode: 0 Status: OK CheckDir: BeadArrayUseCases.Rcheck Warnings: 0