Package: AmpAffyExample Version: 1.49.0 Command: /home/biocbuild/bbs-3.22-bioc/R/bin/R CMD INSTALL AmpAffyExample StartedAt: 2025-07-17 10:56:26 -0400 (Thu, 17 Jul 2025) EndedAt: 2025-07-17 10:56:29 -0400 (Thu, 17 Jul 2025) EllapsedTime: 2.7 seconds RetCode: 0 Status: OK