Package: ALL Version: 1.53.0 Command: /home/biocbuild/bbs-3.23-bioc/R/bin/R CMD build --keep-empty-dirs --no-resave-data ALL StartedAt: 2025-11-06 11:07:31 -0500 (Thu, 06 Nov 2025) EndedAt: 2025-11-06 11:07:45 -0500 (Thu, 06 Nov 2025) EllapsedTime: 14.3 seconds RetCode: 0 Status: OK PackageFile: ALL_1.53.0.tar.gz PackageFileSize: 10.93 MiB