Welcome to mirrors.dotsrc.org

All our mirrors of open source software are available via http, https, ftp and an onion service. More information about our mirrors including statistics and contact information is available on our mirror info pages.

For information about dotsrc.org and our other services please go to our website.

Index of /bioconductor/checkResults/devel/data-experiment-LATEST/

File Name  ↓ File Size  ↓ Date  ↓ 
--
-2025-10-16 19:41:26
-2025-10-16 19:41:26
-2025-10-16 19:41:26
-2025-10-16 19:41:26
-2025-10-16 19:41:26
-2025-10-16 19:41:26
-2025-10-16 19:41:26
-2025-10-16 19:41:26
-2025-10-16 19:41:26
-2025-10-16 19:41:26
-2025-10-16 19:41:26
-2025-10-16 19:41:26
-2025-10-16 19:41:26
-2025-10-16 19:41:26
-2025-10-16 19:41:26
-2025-10-16 19:41:26
-2025-10-16 19:41:26
-2025-10-16 19:41:26
-2025-10-16 19:41:27
-2025-10-16 19:41:27
-2025-10-16 19:41:27
-2025-10-16 19:41:27
-2025-10-16 19:41:27
-2025-10-16 19:41:27
-2025-10-16 19:41:27
-2025-10-16 19:41:27
-2025-10-16 19:41:27
-2025-10-16 19:41:27
-2025-10-16 19:41:27
-2025-10-16 19:41:27
-2025-10-16 19:41:27
-2025-10-16 19:41:27
-2025-10-16 19:41:27
-2025-10-16 19:41:27
-2025-10-16 19:41:27
-2025-10-16 19:41:27
-2025-10-16 19:41:27
-2025-10-16 19:41:27
-2025-10-16 19:41:27
-2025-10-16 19:41:27
-2025-10-16 19:41:27
-2025-10-16 19:41:27
-2025-10-16 19:41:27
-2025-10-16 19:41:27
-2025-10-16 19:41:27
-2025-10-16 19:41:27
-2025-10-16 19:41:27
-2025-10-16 19:41:27
-2025-10-16 19:41:27
-2025-10-16 19:41:27
-2025-10-16 19:41:27
-2025-10-16 19:41:27
-2025-10-16 19:41:27
-2025-10-16 19:41:27
-2025-10-16 19:41:27
-2025-10-16 19:41:27
-2025-10-16 19:41:27
-2025-10-16 19:41:27
-2025-10-16 19:41:27
-2025-10-16 19:41:27
-2025-10-16 19:41:27
-2025-10-16 19:41:27
-2025-10-16 19:41:27
-2025-10-16 19:41:27
-2025-10-16 19:41:27
-2025-10-16 19:41:27
-2025-10-16 19:41:27
-2025-10-16 19:41:27
-2025-10-16 19:41:27
-2025-10-16 19:41:27
-2025-10-16 19:41:27
-2025-10-16 19:41:27
-2025-10-16 19:41:27
-2025-10-16 19:41:27
-2025-10-16 19:41:27
-2025-10-16 19:41:27
-2025-10-16 19:41:27
-2025-10-16 19:41:27
-2025-10-16 19:41:27
-2025-10-16 19:41:27
-2025-10-16 19:41:27
-2025-10-16 19:41:27
-2025-10-16 19:41:27
-2025-10-16 19:41:27
-2025-10-16 19:41:27
-2025-10-16 19:41:27
-2025-10-16 19:41:27
-2025-10-16 19:41:27
-2025-10-16 19:41:27
-2025-10-16 19:41:27
-2025-10-16 19:41:27
-2025-10-16 19:41:27
-2025-10-16 19:41:27
-2025-10-16 19:41:27
-2025-10-16 19:41:27
-2025-10-16 19:41:27
-2025-10-16 19:41:27
-2025-10-16 19:41:27
-2025-10-16 19:41:27
-2025-10-16 19:41:27
-2025-10-16 19:41:27
-2025-10-16 19:41:27
-2025-10-16 19:41:27
-2025-10-16 19:41:27
-2025-10-16 19:41:27
-2025-10-16 19:41:27
-2025-10-16 19:41:27
-2025-10-16 19:41:27
-2025-10-16 19:41:27
-2025-10-16 19:41:27
-2025-10-16 19:41:27
-2025-10-16 19:41:27
-2025-10-16 19:41:27
-2025-10-16 19:41:27
-2025-10-16 19:41:27
-2025-10-16 19:41:27
-2025-10-16 19:41:27
-2025-10-16 19:41:27
-2025-10-16 19:41:27
-2025-10-16 19:41:27
-2025-10-16 19:41:27
-2025-10-16 19:41:27
-2025-10-16 19:41:27
-2025-10-16 19:41:27
-2025-10-16 19:41:27
-2025-10-16 19:41:27
-2025-10-16 19:41:27
-2025-10-16 19:41:27
-2025-10-16 19:41:27
-2025-10-16 19:41:27
-2025-10-16 19:41:27
-2025-10-16 19:41:27
-2025-10-16 19:41:27
-2025-10-16 19:41:27
-2025-10-16 19:41:27
-2025-10-16 19:41:27
-2025-10-16 19:41:27
-2025-10-16 19:41:27
-2025-10-16 19:41:27
-2025-10-16 19:41:27
-2025-10-16 19:41:27
-2025-10-16 19:41:27
-2025-10-16 19:41:27
-2025-10-16 19:41:27
-2025-10-16 19:41:27
-2025-10-16 19:41:27
-2025-10-16 19:41:27
-2025-10-16 19:41:27
-2025-10-16 19:41:27
-2025-10-16 19:41:27
-2025-10-16 19:41:27
-2025-10-16 19:41:27
-2025-10-16 19:41:27
-2025-10-16 19:41:27
-2025-10-16 19:41:27
-2025-10-16 19:41:27
-2025-10-16 19:41:27
-2025-10-16 19:41:27
-2025-10-16 19:41:27
-2025-10-16 19:41:27
-2025-10-16 19:41:27
-2025-10-16 19:41:27
-2025-10-16 19:41:27
-2025-10-16 19:41:27
-2025-10-16 19:41:27
-2025-10-16 19:41:27
-2025-10-16 19:41:27
-2025-10-16 19:41:27
-2025-10-16 19:41:27
-2025-10-16 19:41:27
-2025-10-16 19:41:27
-2025-10-16 19:41:27
-2025-10-16 19:41:27
-2025-10-16 19:41:27
-2025-10-16 19:41:27
-2025-10-16 19:41:27
-2025-10-16 19:41:27
-2025-10-16 19:41:27
-2025-10-16 19:41:27
-2025-10-16 19:41:27
-2025-10-16 19:41:27
-2025-10-16 19:41:27
-2025-10-16 19:41:27
-2025-10-16 19:41:27
-2025-10-16 19:41:27
-2025-10-16 19:41:27
-2025-10-16 19:41:27
-2025-10-16 19:41:27
-2025-10-16 19:41:28
-2025-10-16 19:41:28
-2025-10-16 19:41:28
-2025-10-16 19:41:28
-2025-10-16 19:41:28
-2025-10-16 19:41:27
-2025-10-16 19:41:27
-2025-10-16 19:41:27
-2025-10-16 19:41:27
-2025-10-16 19:41:28
-2025-10-16 19:41:28
-2025-10-16 19:41:28
-2025-10-16 19:41:28
-2025-10-16 19:41:28
-2025-10-16 19:41:28
-2025-10-16 19:41:28
-2025-10-16 19:41:28
-2025-10-16 19:41:28
-2025-10-16 19:41:28
-2025-10-16 19:41:28
-2025-10-16 19:41:28
-2025-10-16 19:41:28
-2025-10-16 19:41:28
-2025-10-16 19:41:28
-2025-10-16 19:41:28
-2025-10-16 19:41:28
-2025-10-16 19:41:28
-2025-10-16 19:41:28
-2025-10-16 19:41:28
-2025-10-16 19:41:28
-2025-10-16 19:41:28
-2025-10-16 19:41:28
-2025-10-16 19:41:28
-2025-10-16 19:41:28
-2025-10-16 19:41:28
-2025-10-16 19:41:28
-2025-10-16 19:41:28
-2025-10-16 19:41:28
-2025-10-16 19:41:28
-2025-10-16 19:41:28
-2025-10-16 19:41:28
-2025-10-16 19:41:26
-2025-10-16 19:41:26
-2025-10-16 19:41:26
-2025-10-16 19:41:26
-2025-10-16 19:41:26
-2025-10-16 19:41:26
-2025-10-16 19:41:26
-2025-10-16 19:41:26
-2025-04-08 19:35:03
-2025-10-16 19:41:26
-2025-10-16 19:41:26
-2025-10-16 19:41:27
-2025-10-16 19:41:27
-2025-10-16 19:41:27
-2025-10-16 19:41:27
-2025-10-16 19:41:27
-2025-10-16 19:41:27
-2025-10-16 19:41:27
-2025-10-16 19:41:27
-2025-10-16 19:41:27
-2025-10-16 19:41:27
-2025-10-16 19:41:27
-2025-10-16 19:41:27
-2025-10-16 19:41:27
-2025-10-16 19:41:27
-2025-10-16 19:41:27
-2025-10-16 19:41:27
-2025-10-16 19:41:27
-2025-10-16 19:41:27
-2025-10-16 19:41:27
-2025-10-16 19:41:27
-2025-10-16 19:41:27
-2025-10-16 19:41:27
-2025-10-16 19:41:27
-2025-10-16 19:41:27
-2025-10-16 19:41:27
-2025-10-16 19:41:27
-2025-10-16 19:41:27
-2025-10-16 19:41:27
-2025-10-16 19:41:27
-2025-10-16 19:41:27
-2025-10-16 19:41:27
-2025-10-16 19:41:27
-2025-10-16 19:41:27
-2025-10-16 19:41:27
-2025-10-16 19:41:27
-2025-10-16 19:41:27
-2025-10-16 19:41:27
-2025-10-16 19:41:27
-2025-10-16 19:41:27
-2025-10-16 19:41:27
-2025-10-16 19:41:27
-2025-10-16 19:41:27
-2025-10-16 19:41:27
-2025-10-16 19:41:27
-2025-10-16 19:41:27
-2025-10-16 19:41:27
-2025-10-16 19:41:27
-2025-10-16 19:41:27
-2025-10-16 19:41:27
-2025-10-16 19:41:27
-2025-10-16 19:41:27
-2025-10-16 19:41:27
-2025-10-16 19:41:27
-2025-10-16 19:41:27
-2025-10-16 19:41:27
-2025-10-16 19:41:27
-2025-10-16 19:41:27
-2025-10-16 19:41:27
-2025-10-16 19:41:27
-2025-10-16 19:41:27
-2025-10-16 19:41:27
-2025-10-16 19:41:27
-2025-10-16 19:41:27
-2025-10-16 19:41:27
-2025-10-16 19:41:27
-2025-10-16 19:41:27
-2025-10-16 19:41:27
-2025-10-16 19:41:27
-2025-10-16 19:41:27
-2025-10-16 19:41:27
-2025-10-16 19:41:27
-2025-10-16 19:41:27
-2025-10-16 19:41:27
-2025-10-16 19:41:27
-2025-10-16 19:41:27
-2025-10-16 19:41:27
-2025-10-16 19:41:27
-2025-10-16 19:41:27
-2025-10-16 19:41:27
-2025-10-16 19:41:27
-2025-10-16 19:41:27
-2025-10-16 19:41:27
-2025-10-16 19:41:27
-2025-10-16 19:41:27
-2025-10-16 19:41:27
-2025-10-16 19:41:27
-2025-10-16 19:41:27
-2025-10-16 19:41:27
-2025-10-16 19:41:27
-2025-10-16 19:41:27
-2025-10-16 19:41:27
-2025-10-16 19:41:27
-2025-10-16 19:41:27
-2025-10-16 19:41:27
-2025-10-16 19:41:27
-2025-10-16 19:41:27
-2025-10-16 19:41:27
-2025-10-16 19:41:27
-2025-10-16 19:41:27
-2025-10-16 19:41:27
-2025-10-16 19:41:27
-2025-10-16 19:41:27
-2025-10-16 19:41:27
-2025-10-16 19:41:27
-2025-10-16 19:41:27
-2025-10-16 19:41:27
-2025-10-16 19:41:27
-2025-10-16 19:41:27
-2025-10-16 19:41:27
-2025-10-16 19:41:27
-2025-10-16 19:41:27
-2025-10-16 19:41:27
-2025-10-16 19:41:27
-2025-10-16 19:41:27
-2025-10-16 19:41:27
-2025-10-16 19:41:27
-2025-10-16 19:41:27
-2025-10-16 19:41:27
-2025-10-16 19:41:27
-2025-10-16 19:41:27
-2025-10-16 19:41:27
-2025-10-16 19:41:27
-2025-10-16 19:41:27
-2025-10-16 19:41:27
-2025-10-16 19:41:27
-2025-10-16 19:41:27
-2025-10-16 19:41:27
-2025-10-16 19:41:27
-2025-10-16 19:41:27
-2025-10-16 19:41:27
-2025-10-16 19:41:27
-2025-10-16 19:41:27
-2025-10-16 19:41:27
-2025-10-16 19:41:27
-2025-10-16 19:41:27
-2025-10-16 19:41:27
-2025-04-08 19:35:04
-2025-10-16 19:41:27
-2025-10-16 19:41:27
-2025-10-16 19:41:27
-2025-10-16 19:41:27
-2025-10-16 19:41:27
-2025-10-16 19:41:27
-2025-10-16 19:41:27
-2025-10-16 19:41:27
-2025-10-16 19:41:27
-2025-10-16 19:41:27
-2025-10-16 19:41:27
-2025-10-16 19:41:27
-2025-10-16 19:41:27
-2025-10-16 19:41:27
-2025-10-16 19:41:27
-2025-10-16 19:41:27
-2025-10-16 19:41:27
-2025-10-16 19:41:27
-2025-10-16 19:41:27
-2025-10-16 19:41:27
-2025-10-16 19:41:27
-2025-10-16 19:41:27
-2025-10-16 19:41:27
-2025-10-16 19:41:27
-2025-10-16 19:41:27
-2025-10-16 19:41:27
-2025-10-16 19:41:27
-2025-10-16 19:41:27
-2025-10-16 19:41:27
-2025-10-16 19:41:27
-2025-10-16 19:41:27
-2025-10-16 19:41:27
-2025-10-16 19:41:27
-2025-10-16 19:41:27
-2025-10-16 19:41:27
-2025-10-16 19:41:27
-2025-10-16 19:41:28
-2025-10-16 19:41:28
-2025-10-16 19:41:28
-2025-10-16 19:41:28
-2025-04-08 19:35:04
-2025-10-16 19:41:28
-2025-10-16 19:41:28
-2025-10-16 19:41:28
-2025-10-16 19:41:28
-2025-10-16 19:41:28
-2025-10-16 19:41:28
-2025-10-16 19:41:28
-2025-10-16 19:41:28
-2025-10-16 19:41:28
-2025-10-16 19:41:28
-2025-10-16 19:41:28
-2025-10-16 19:41:28
-2025-10-16 19:41:28
-2025-10-16 19:41:28
-2025-10-16 19:41:28
-2025-10-16 19:41:28
-2025-10-16 19:41:28
-2025-10-16 19:41:28
-2025-10-16 19:41:28
7.1 KiB2025-10-16 19:41:26
7.1 KiB2025-10-16 19:41:26
7.0 KiB2025-10-16 19:41:26
47.4 KiB2025-10-16 19:41:26
2.6 KiB2025-10-16 19:41:26
31.6 KiB2025-10-16 19:41:26
3.3 KiB2025-10-16 19:41:26
601.4 KiB2025-10-16 19:41:28
46.6 KiB2025-10-16 19:41:26
7.4 KiB2025-10-16 19:41:26
533.3 KiB2025-10-16 19:41:26
11.9 KiB2025-10-16 19:41:26
6.0 KiB2025-10-16 19:41:26
1.1 MiB2025-10-16 19:41:30
0 B2025-10-16 19:41:26