Package: rat2302frmavecs Version: 0.99.11 Command: /home/biocbuild/bbs-3.22-bioc/R/bin/R CMD build --keep-empty-dirs --no-resave-data rat2302frmavecs StartedAt: 2025-10-01 05:57:18 -0400 (Wed, 01 Oct 2025) EndedAt: 2025-10-01 05:58:28 -0400 (Wed, 01 Oct 2025) EllapsedTime: 70.0 seconds RetCode: 0 Status: OK PackageFile: rat2302frmavecs_0.99.11.tar.gz PackageFileSize: 12.54 MiB