Package: hpAnnot Version: 1.1.1 Command: /home/biocbuild/bbs-3.23-bioc/R/bin/R CMD INSTALL hpAnnot StartedAt: 2025-11-26 06:00:27 -0500 (Wed, 26 Nov 2025) EndedAt: 2025-11-26 06:00:36 -0500 (Wed, 26 Nov 2025) EllapsedTime: 8.8 seconds RetCode: 0 Status: OK