Package: UniProtKeywords Version: 0.99.7 Command: /home/biocbuild/bbs-3.22-bioc/R/bin/R CMD INSTALL UniProtKeywords StartedAt: 2025-07-23 06:30:08 -0400 (Wed, 23 Jul 2025) EndedAt: 2025-07-23 06:30:12 -0400 (Wed, 23 Jul 2025) EllapsedTime: 4.0 seconds RetCode: 0 Status: OK