Package: PANTHER.db Version: 1.0.12 Command: /home/biocbuild/bbs-3.22-bioc/R/bin/R CMD INSTALL PANTHER.db StartedAt: 2025-10-15 05:55:19 -0400 (Wed, 15 Oct 2025) EndedAt: 2025-10-15 05:55:39 -0400 (Wed, 15 Oct 2025) EllapsedTime: 19.8 seconds RetCode: 0 Status: OK