Package: JASPAR2024 Version: 0.99.7 Command: /home/biocbuild/bbs-3.23-bioc/R/bin/R CMD INSTALL JASPAR2024 StartedAt: 2025-11-26 06:00:11 -0500 (Wed, 26 Nov 2025) EndedAt: 2025-11-26 06:00:16 -0500 (Wed, 26 Nov 2025) EllapsedTime: 5.0 seconds RetCode: 0 Status: OK