Package: JASPAR2020 Version: 0.99.8 Command: /home/biocbuild/bbs-3.23-bioc/R/bin/R CMD INSTALL JASPAR2020 StartedAt: 2025-11-26 06:00:08 -0500 (Wed, 26 Nov 2025) EndedAt: 2025-11-26 06:00:11 -0500 (Wed, 26 Nov 2025) EllapsedTime: 2.8 seconds RetCode: 0 Status: OK