Package: HPO.db Version: 0.99.2 Command: /home/biocbuild/bbs-3.22-bioc/R/bin/R CMD INSTALL HPO.db StartedAt: 2025-10-01 05:55:11 -0400 (Wed, 01 Oct 2025) EndedAt: 2025-10-01 05:55:23 -0400 (Wed, 01 Oct 2025) EllapsedTime: 12.5 seconds RetCode: 1 Status: ERROR