Package: HPO.db Version: 0.99.2 Command: /home/biocbuild/bbs-3.22-bioc/R/bin/R CMD build --keep-empty-dirs --no-resave-data HPO.db StartedAt: 2025-10-01 05:57:00 -0400 (Wed, 01 Oct 2025) EndedAt: 2025-10-01 05:57:14 -0400 (Wed, 01 Oct 2025) EllapsedTime: 13.4 seconds RetCode: 1 Status: ERROR PackageFile: None PackageFileSize: NA