Package: GeneSummary Version: 0.99.6 Command: /home/biocbuild/bbs-3.22-bioc/R/bin/R CMD INSTALL GeneSummary StartedAt: 2025-10-08 05:55:08 -0400 (Wed, 08 Oct 2025) EndedAt: 2025-10-08 05:55:10 -0400 (Wed, 08 Oct 2025) EllapsedTime: 1.9 seconds RetCode: 0 Status: OK