Package: EpiTxDb.Sc.sacCer3 Version: 0.99.5 Command: /home/biocbuild/bbs-3.22-bioc/R/bin/R CMD build --keep-empty-dirs --no-resave-data EpiTxDb.Sc.sacCer3 StartedAt: 2025-10-01 05:56:28 -0400 (Wed, 01 Oct 2025) EndedAt: 2025-10-01 05:57:30 -0400 (Wed, 01 Oct 2025) EllapsedTime: 62.2 seconds RetCode: 0 Status: OK PackageFile: EpiTxDb.Sc.sacCer3_0.99.5.tar.gz PackageFileSize: 304.1 KiB